BEGIN:VCALENDAR
VERSION:2.0
PRODID:-//Caritas auf Norderney - ECPv6.15.15//NONSGML v1.0//EN
CALSCALE:GREGORIAN
METHOD:PUBLISH
X-ORIGINAL-URL:https://caritas-norderney.de
X-WR-CALDESC:Veranstaltungen für Caritas auf Norderney
REFRESH-INTERVAL;VALUE=DURATION:PT1H
X-Robots-Tag:noindex
X-PUBLISHED-TTL:PT1H
BEGIN:VTIMEZONE
TZID:Europe/Berlin
BEGIN:DAYLIGHT
TZOFFSETFROM:+0100
TZOFFSETTO:+0200
TZNAME:CEST
DTSTART:20260329T010000
END:DAYLIGHT
BEGIN:STANDARD
TZOFFSETFROM:+0200
TZOFFSETTO:+0100
TZNAME:CET
DTSTART:20261025T010000
END:STANDARD
BEGIN:DAYLIGHT
TZOFFSETFROM:+0100
TZOFFSETTO:+0200
TZNAME:CEST
DTSTART:20270328T010000
END:DAYLIGHT
BEGIN:STANDARD
TZOFFSETFROM:+0200
TZOFFSETTO:+0100
TZNAME:CET
DTSTART:20271031T010000
END:STANDARD
BEGIN:DAYLIGHT
TZOFFSETFROM:+0100
TZOFFSETTO:+0200
TZNAME:CEST
DTSTART:20280326T010000
END:DAYLIGHT
BEGIN:STANDARD
TZOFFSETFROM:+0200
TZOFFSETTO:+0100
TZNAME:CET
DTSTART:20281029T010000
END:STANDARD
END:VTIMEZONE
BEGIN:VEVENT
DTSTART;VALUE=DATE:20271106
DTEND;VALUE=DATE:20271111
DTSTAMP:20260419T161335
CREATED:20260327T092329Z
LAST-MODIFIED:20260330T102653Z
UID:7621-1825459200-1825891199@caritas-norderney.de
SUMMARY:Yoga - Auszeit am Meer (Wintersaison)
DESCRIPTION:Eine besondere Yogazeit am Wattenmeer\, dem UNESCO Weltkulturerbe an der Nordsee.\nMit allen Sinnen genießen: dem Meeresrauschen lauschen. Sonne & Wind auf der Haut spüren.\nDie gute Seeluft schmecken und den Möwen beim Flug zusehen-\ndieses alles erlebst du im natürlichen Reizklima an der Küste Norderneys. \nWir bewegen uns am Meer\, praktizieren Yoga im gemütlichen Seminarhaus\nund erleben Gemeinschaft pur. Für Rückzug und Besinnlichkeit ist ebenfalls genügend Zeit und Raum gegeben. \nLeitung:\nNadja Schäfholz-Wetter (aka Frau Shanti)\närztlich geprüfte Yogalehrerin und Entspannungstrainerin \nPreise: \nEinzelappartment: 648\,00€\nDoppelappartment: 568\,00€\nEigenes Zimmer und geteilte Badnutzung \n 
URL:https://caritas-norderney.de/termin/yoga-auszeit-am-meer-wintersaison/
LOCATION:Gästehaus Friesenhof\, Benekestraße 55\, Norderney\, Niedersachsen\, 26548\, Germany
ATTACH;FMTTYPE=image/jpeg:https://caritas-norderney.de/wp-content/uploads/2024/12/Bild_Yoga.jpg
ORGANIZER;CN="Caritas Gesundheitszentrum f%C3%BCr Familien Norderney GmbH":MAILTO:inseloase@caritas-norderney.de
END:VEVENT
BEGIN:VEVENT
DTSTART;VALUE=DATE:20271110
DTEND;VALUE=DATE:20271118
DTSTAMP:20260419T161335
CREATED:20260325T102910Z
LAST-MODIFIED:20260325T102910Z
UID:7581-1825804800-1826495999@caritas-norderney.de
SUMMARY:Fasten am Meer
DESCRIPTION:Eine Fastenwoche nach der Buchinger/Lützner Methode\nFasten bewegt – auf körperlicher\, geistiger und mentaler Ebene. Impulse zur Veränderung des eigenen Lebensstils können in dieser Zeit (neu) geweckt und umgesetzt werden.\n \nIn Gemeinschaft fällt das Fasten oft leichter. Sie werden dabei angeleitet durch eine ärztlich geprüfte Fastenleitung (dfa). \nIm Alltagsleben ernährt sich der Körper von „außen“\, durch Zufuhr von Nahrung. Beim Fasten schaltet der Körper um\, ernährt sich von „innen“\, von den Speichern\, die er zur Verfügung hat. \nDie Woche beinhaltet eine Kombination aus Fasten\, Wandern\, Bewegung\, Thalasso\, Entspannung sowie wertvollen Vorträgen für die Praxis und den Alltag. \nDas Angebot “Fasten am Meer” beinhaltet: \n\n7 Übernachtungen im Einzel- oder Doppelappartement\nBuchinger Fastenverpflegung\ngemeinsames Fastenbrechen und Aufbautag\nzertifizierte Fastenbegleitung (dfa) während der gesamten Woche.\n\nLeitung : Marita von Lehmden\närztlich geprüfte Fastenleitung (dfa)\, zertifizierte Entspannungstrainerin \nKosten:\nEinzelappartement: 924\,00€\nDoppelappartement: 784\,00€\n(eigener Schlafbereich\, geteilte Badnutzung) \n 
URL:https://caritas-norderney.de/termin/fasten-am-meer-5/
LOCATION:Gästehaus Friesenhof\, Benekestraße 55\, Norderney\, Niedersachsen\, 26548\, Germany
ATTACH;FMTTYPE=image/jpeg:https://caritas-norderney.de/wp-content/uploads/2024/10/had.jpg
ORGANIZER;CN="Caritas Gesundheitszentrum f%C3%BCr Familien Norderney GmbH":MAILTO:inseloase@caritas-norderney.de
END:VEVENT
BEGIN:VEVENT
DTSTART;VALUE=DATE:20271117
DTEND;VALUE=DATE:20271125
DTSTAMP:20260419T161335
CREATED:20260325T155915Z
LAST-MODIFIED:20260325T155915Z
UID:7593-1826409600-1827100799@caritas-norderney.de
SUMMARY:Gesundheitswoche im Friesenhof
DESCRIPTION:Gesundheitswoche im Friesenhof\nEin Aufenthalt am Meer und auf der Insel bringt Körper und Seele in Balance. Nutzen Sie die Zeit mit sich und anderen zwischen Ebbe und Flut für Bewegung\, Entspannung und Stressregulation. \nTauchen Sie ein in das gesunde Klima unserer Thalasso-Insel Norderney und lassen Sie sich von uns auf dem Weg zu Mehr Gesundheit am Meer begleiten. \nDas Angebot Gesundheitswoche beinhaltet 7 Übernachtungen im Einzelzimmer inklusive Vollpension\, Begleitung während der Woche durch Impulse und Gespräche in der Gruppe\, Bewegungs- und Entspannungseinheiten\, Klimatherapie und zwei Anwendungen im Badehaus. \nKosten (inkl. VP und Programm)\n \nEinzelappartement: 924\,00 €\nDoppelappartement: 784\,00€\n(Eigenes Zimmer\, geteilte Badnutzung)
URL:https://caritas-norderney.de/termin/gesundheitswoche-im-friesenhof-7/
LOCATION:Gästehaus Friesenhof\, Benekestraße 55\, Norderney\, Niedersachsen\, 26548\, Germany
ATTACH;FMTTYPE=image/jpeg:https://caritas-norderney.de/wp-content/uploads/2024/08/Atemholen10-e1724156710656.jpg
ORGANIZER;CN="Caritas Gesundheitszentrum f%C3%BCr Familien Norderney GmbH":MAILTO:inseloase@caritas-norderney.de
END:VEVENT
BEGIN:VEVENT
DTSTART;VALUE=DATE:20271124
DTEND;VALUE=DATE:20271202
DTSTAMP:20260419T161335
CREATED:20260325T160050Z
LAST-MODIFIED:20260325T160050Z
UID:7595-1827014400-1827705599@caritas-norderney.de
SUMMARY:Gesundheitswoche im Friesenhof
DESCRIPTION:Gesundheitswoche im Friesenhof\nEin Aufenthalt am Meer und auf der Insel bringt Körper und Seele in Balance. Nutzen Sie die Zeit mit sich und anderen zwischen Ebbe und Flut für Bewegung\, Entspannung und Stressregulation. \nTauchen Sie ein in das gesunde Klima unserer Thalasso-Insel Norderney und lassen Sie sich von uns auf dem Weg zu Mehr Gesundheit am Meer begleiten. \nDas Angebot Gesundheitswoche beinhaltet 7 Übernachtungen im Einzelzimmer inklusive Vollpension\, Begleitung während der Woche durch Impulse und Gespräche in der Gruppe\, Bewegungs- und Entspannungseinheiten\, Klimatherapie und zwei Anwendungen im Badehaus. \nKosten (inkl. VP und Programm)\n \nEinzelappartement: 924\,00 €\nDoppelappartement: 784\,00€\n(Eigenes Zimmer\, geteilte Badnutzung)
URL:https://caritas-norderney.de/termin/gesundheitswoche-im-friesenhof-8/
LOCATION:Gästehaus Friesenhof\, Benekestraße 55\, Norderney\, Niedersachsen\, 26548\, Germany
ATTACH;FMTTYPE=image/jpeg:https://caritas-norderney.de/wp-content/uploads/2024/08/Atemholen10-e1724156710656.jpg
ORGANIZER;CN="Caritas Gesundheitszentrum f%C3%BCr Familien Norderney GmbH":MAILTO:inseloase@caritas-norderney.de
END:VEVENT
END:VCALENDAR