BEGIN:VCALENDAR
VERSION:2.0
PRODID:-//Caritas auf Norderney - ECPv6.15.15//NONSGML v1.0//EN
CALSCALE:GREGORIAN
METHOD:PUBLISH
X-ORIGINAL-URL:https://caritas-norderney.de
X-WR-CALDESC:Veranstaltungen für Caritas auf Norderney
REFRESH-INTERVAL;VALUE=DURATION:PT1H
X-Robots-Tag:noindex
X-PUBLISHED-TTL:PT1H
BEGIN:VTIMEZONE
TZID:Europe/Berlin
BEGIN:DAYLIGHT
TZOFFSETFROM:+0100
TZOFFSETTO:+0200
TZNAME:CEST
DTSTART:20260329T010000
END:DAYLIGHT
BEGIN:STANDARD
TZOFFSETFROM:+0200
TZOFFSETTO:+0100
TZNAME:CET
DTSTART:20261025T010000
END:STANDARD
BEGIN:DAYLIGHT
TZOFFSETFROM:+0100
TZOFFSETTO:+0200
TZNAME:CEST
DTSTART:20270328T010000
END:DAYLIGHT
BEGIN:STANDARD
TZOFFSETFROM:+0200
TZOFFSETTO:+0100
TZNAME:CET
DTSTART:20271031T010000
END:STANDARD
BEGIN:DAYLIGHT
TZOFFSETFROM:+0100
TZOFFSETTO:+0200
TZNAME:CEST
DTSTART:20280326T010000
END:DAYLIGHT
BEGIN:STANDARD
TZOFFSETFROM:+0200
TZOFFSETTO:+0100
TZNAME:CET
DTSTART:20281029T010000
END:STANDARD
END:VTIMEZONE
BEGIN:VEVENT
DTSTART;VALUE=DATE:20271124
DTEND;VALUE=DATE:20271202
DTSTAMP:20260419T174318
CREATED:20260325T160050Z
LAST-MODIFIED:20260325T160050Z
UID:7595-1827014400-1827705599@caritas-norderney.de
SUMMARY:Gesundheitswoche im Friesenhof
DESCRIPTION:Gesundheitswoche im Friesenhof\nEin Aufenthalt am Meer und auf der Insel bringt Körper und Seele in Balance. Nutzen Sie die Zeit mit sich und anderen zwischen Ebbe und Flut für Bewegung\, Entspannung und Stressregulation. \nTauchen Sie ein in das gesunde Klima unserer Thalasso-Insel Norderney und lassen Sie sich von uns auf dem Weg zu Mehr Gesundheit am Meer begleiten. \nDas Angebot Gesundheitswoche beinhaltet 7 Übernachtungen im Einzelzimmer inklusive Vollpension\, Begleitung während der Woche durch Impulse und Gespräche in der Gruppe\, Bewegungs- und Entspannungseinheiten\, Klimatherapie und zwei Anwendungen im Badehaus. \nKosten (inkl. VP und Programm)\n \nEinzelappartement: 924\,00 €\nDoppelappartement: 784\,00€\n(Eigenes Zimmer\, geteilte Badnutzung)
URL:https://caritas-norderney.de/termin/gesundheitswoche-im-friesenhof-8/
LOCATION:Gästehaus Friesenhof\, Benekestraße 55\, Norderney\, Niedersachsen\, 26548\, Germany
ATTACH;FMTTYPE=image/jpeg:https://caritas-norderney.de/wp-content/uploads/2024/08/Atemholen10-e1724156710656.jpg
ORGANIZER;CN="Caritas Gesundheitszentrum f%C3%BCr Familien Norderney GmbH":MAILTO:inseloase@caritas-norderney.de
END:VEVENT
BEGIN:VEVENT
DTSTART;VALUE=DATE:20271210
DTEND;VALUE=DATE:20271214
DTSTAMP:20260419T174318
CREATED:20260326T155718Z
LAST-MODIFIED:20260330T112156Z
UID:7608-1828396800-1828742399@caritas-norderney.de
SUMMARY:Oasentage
DESCRIPTION:Für alle\, die eine inspirierende Pause vom Alltag allein und in Gemeinschaft suchen. \nLeitung:\nDr. Siri Fuhrmann (Norderney)
URL:https://caritas-norderney.de/termin/oasentage/
LOCATION:Caritas Inseloase Norderney\, Marienstraße 18\, Norderney\, 26548
ATTACH;FMTTYPE=image/jpeg:https://caritas-norderney.de/wp-content/uploads/2024/10/image.jpeg
ORGANIZER;CN="Caritas Gesundheitszentrum f%C3%BCr Familien Norderney GmbH":MAILTO:inseloase@caritas-norderney.de
END:VEVENT
END:VCALENDAR